BEGIN:VCALENDAR
VERSION:2.0
PRODID:spatie/icalendar-generator
NAME:Nivon Activiteit
X-WR-CALNAME:Nivon Activiteit
BEGIN:VTIMEZONE
TZID:UTC
BEGIN:STANDARD
DTSTART:20250727T114815
TZOFFSETFROM:+0000
TZOFFSETTO:+0000
END:STANDARD
END:VTIMEZONE
BEGIN:VEVENT
UID:69ea06ff4a23c
DTSTAMP:20260423T114815Z
SUMMARY:[Zuid Kennemerland] Wandelen in de Heerenduinen\, 12 km
DESCRIPTION:
LOCATION: - 
DTSTART:20260429T100000Z
DTEND:20260429T000000Z
END:VEVENT
END:VCALENDAR